BEGIN:VCALENDAR
VERSION:2.0
PRODID:-//Collingtree Parish Council//Meeting Calendar//EN
CALSCALE:GREGORIAN
METHOD:PUBLISH
BEGIN:VEVENT
UID:70847-20241113@collingtreeparishcouncil.gov.uk
DTSTAMP:20260425T125027Z
DTSTART;VALUE=DATE:20241113
DTEND;VALUE=DATE:20241114
SUMMARY:Council Meeting &#8211\\; November 2024
DESCRIPTION:Full Council Meeting\nView details: https://collingtreeparishcouncil.gov.uk/meetings/council-meeting-november-2024/
URL:https://collingtreeparishcouncil.gov.uk/meetings/council-meeting-november-2024/
END:VEVENT
END:VCALENDAR
