BEGIN:VCALENDAR
VERSION:2.0
PRODID:-//Collingtree Parish Council//Meeting Calendar//EN
CALSCALE:GREGORIAN
METHOD:PUBLISH
BEGIN:VEVENT
UID:70848-20241218@collingtreeparishcouncil.gov.uk
DTSTAMP:20260425T110533Z
DTSTART;VALUE=DATE:20241218
DTEND;VALUE=DATE:20241219
SUMMARY:Council Meeting &#8211\\; December 2024
DESCRIPTION:Full Council Meeting\nView details: https://collingtreeparishcouncil.gov.uk/meetings/council-meeting-december-2024/
URL:https://collingtreeparishcouncil.gov.uk/meetings/council-meeting-december-2024/
END:VEVENT
END:VCALENDAR
