BEGIN:VCALENDAR
VERSION:2.0
PRODID:-//Collingtree Parish Council//Meeting Calendar//EN
CALSCALE:GREGORIAN
METHOD:PUBLISH
BEGIN:VEVENT
UID:71372-20260311@collingtreeparishcouncil.gov.uk
DTSTAMP:20260421T085431Z
DTSTART;VALUE=DATE:20260311
DTEND;VALUE=DATE:20260312
SUMMARY:Council Meeting &#8211\\; March 2026
DESCRIPTION:Full Council Meeting\nView details: https://collingtreeparishcouncil.gov.uk/meetings/council-meeting-march-2026/
URL:https://collingtreeparishcouncil.gov.uk/meetings/council-meeting-march-2026/
END:VEVENT
END:VCALENDAR
